BEGIN:VCALENDAR
VERSION:2.0
PRODID:-//CountDown - ECPv6.15.20//NONSGML v1.0//EN
CALSCALE:GREGORIAN
METHOD:PUBLISH
X-WR-CALNAME:CountDown
X-ORIGINAL-URL:https://countdowndresden.de
X-WR-CALDESC:Veranstaltungen für CountDown
REFRESH-INTERVAL;VALUE=DURATION:PT1H
X-Robots-Tag:noindex
X-PUBLISHED-TTL:PT1H
BEGIN:VTIMEZONE
TZID:Europe/Berlin
BEGIN:DAYLIGHT
TZOFFSETFROM:+0100
TZOFFSETTO:+0200
TZNAME:CEST
DTSTART:20250330T010000
END:DAYLIGHT
BEGIN:STANDARD
TZOFFSETFROM:+0200
TZOFFSETTO:+0100
TZNAME:CET
DTSTART:20251026T010000
END:STANDARD
BEGIN:DAYLIGHT
TZOFFSETFROM:+0100
TZOFFSETTO:+0200
TZNAME:CEST
DTSTART:20260329T010000
END:DAYLIGHT
BEGIN:STANDARD
TZOFFSETFROM:+0200
TZOFFSETTO:+0100
TZNAME:CET
DTSTART:20261025T010000
END:STANDARD
BEGIN:DAYLIGHT
TZOFFSETFROM:+0100
TZOFFSETTO:+0200
TZNAME:CEST
DTSTART:20270328T010000
END:DAYLIGHT
BEGIN:STANDARD
TZOFFSETFROM:+0200
TZOFFSETTO:+0100
TZNAME:CET
DTSTART:20271031T010000
END:STANDARD
END:VTIMEZONE
BEGIN:VEVENT
DTSTART;TZID=Europe/Berlin:20260228T210000
DTEND;TZID=Europe/Berlin:20260301T020000
DTSTAMP:20260425T183155
CREATED:20260220T130629Z
LAST-MODIFIED:20260220T161716Z
UID:10000154-1772312400-1772330400@countdowndresden.de
SUMMARY:Piratenparty
DESCRIPTION:Ahoy Freibeuter und Landratten die meinen das sie der rauhen See gewachsen sind. Bereit Schätze zu suchen während ihr Shanty\, Folk und anderen Liedern über das Meer und die Freiheit lauscht? Gerüchten zufolge wurden im Club einige Vergraben und Versteckt und die Bar würde sich freuen ihr verlorenen Gold wieder zu finden und läst Freigetränke* Belohnungen springen. \n  \n*Keine Cocktails\, Einmal/Person
URL:https://countdowndresden.de/event_/piratenparty/
LOCATION:CountDown\, Güntzstraße 22\, Dresden\, Sachsen\, 01307\, Germany
CATEGORIES:Rock- & Metal-Abend
ORGANIZER;CN="Studentenklub IZ e.V.":MAILTO:cd@countdown-dresden.de
END:VEVENT
BEGIN:VEVENT
DTSTART;TZID=Europe/Berlin:20260328T210000
DTEND;TZID=Europe/Berlin:20260329T030000
DTSTAMP:20260425T183155
CREATED:20260424T131741Z
LAST-MODIFIED:20260424T131741Z
UID:10000728-1774731600-1774753200@countdowndresden.de
SUMMARY:Nu to the (Metal)Core
DESCRIPTION:Zurück zu den beginne des Milleniums wo die vermischung der langsam abklingend heavymetal Hochzeit der 90er mit den aufkommenden Hiphop und Rap bzw. der entsprechenden gegenströmung durch Punk einflüsse zu diesen 2 unglaublichen ausprägung des Metals geführt hat. \nBands wie Linkin Park\, Slipknot oder System of a Down als typische vertreter für die NU-Metal seite VS Bands wie August Burns Red\, Heaven Shall Burn oder Trivium für die Metalcore sind das was euch heute erwartet.
URL:https://countdowndresden.de/event_/nu-to-the-metalcore-2/
LOCATION:CountDown\, Güntzstraße 22\, Dresden\, Sachsen\, 01307\, Germany
CATEGORIES:Rock- & Metal-Abend
ORGANIZER;CN="Studentenklub IZ e.V.":MAILTO:cd@countdown-dresden.de
END:VEVENT
BEGIN:VEVENT
DTSTART;TZID=Europe/Berlin:20260328T210000
DTEND;TZID=Europe/Berlin:20260329T030000
DTSTAMP:20260425T183155
CREATED:20260424T132847Z
LAST-MODIFIED:20260424T132847Z
UID:10000787-1774731600-1774753200@countdowndresden.de
SUMMARY:NU to the (Metal)Core
DESCRIPTION:Zurück zum Anfang des Milleniums das Abklingen der Havymetal Hochzeit der 90er fürt zu den experimenten mit deer verschmelzung des Hiphops/Raps und dem Punk mit genau diesem. \nHeute Abend erwarten euch Bands wie Linkin Park\, System of a Down und Slipknot als vertreter des NU-Metals vs Haven Shall Burn\, August Burn Red und Trivium als vertreter des Metalcores.
URL:https://countdowndresden.de/event_/nu-to-the-metalcore-3/
LOCATION:CountDown\, Güntzstraße 22\, Dresden\, Sachsen\, 01307\, Germany
CATEGORIES:Rock- & Metal-Abend
ORGANIZER;CN="Studentenklub IZ e.V.":MAILTO:cd@countdown-dresden.de
END:VEVENT
BEGIN:VEVENT
DTSTART;TZID=Europe/Berlin:20260425T210000
DTEND;TZID=Europe/Berlin:20260426T020000
DTSTAMP:20260425T183155
CREATED:20260424T130144Z
LAST-MODIFIED:20260424T130443Z
UID:10000567-1777150800-1777168800@countdowndresden.de
SUMMARY:Metalalter
DESCRIPTION:Metalalter\, eine Tradition im CountDown ganz klassich mit Folk\, Mittelalterrock kontrastiert mit Pagen- und Vikingmetal.
URL:https://countdowndresden.de/event_/letzter-samstag-2/
LOCATION:CountDown\, Güntzstraße 22\, Dresden\, Sachsen\, 01307\, Germany
CATEGORIES:Rock- & Metal-Abend
ORGANIZER;CN="Studentenklub IZ e.V.":MAILTO:cd@countdown-dresden.de
END:VEVENT
BEGIN:VEVENT
DTSTART;TZID=Europe/Berlin:20260530T210000
DTEND;TZID=Europe/Berlin:20260531T020000
DTSTAMP:20260425T183155
CREATED:20260424T133450Z
LAST-MODIFIED:20260424T133450Z
UID:10000846-1780174800-1780192800@countdowndresden.de
SUMMARY:NU to the (Metal)Core
DESCRIPTION:Heute ein Blick zurück zum Milleniums wechsel. Die Hochzeit des Heavymetals ist vorbei experimente mit modernen Musik vermischen den Punk und Rap/HipHop mit dem bewährten harten Tönen und schaffen diese beiden Richtungen. \nBands die euch erwarten Linkin Park\, System of the Down und Slipknot als Vertreter des NU-Metals kontrastriert durch Haven Shall Burn\, Bullet for my Valentin und August Burn Red für den Metalcore.
URL:https://countdowndresden.de/event_/nu-to-the-metalcore-4/
LOCATION:CountDown\, Güntzstraße 22\, Dresden\, Sachsen\, 01307\, Germany
CATEGORIES:Rock- & Metal-Abend
ORGANIZER;CN="Studentenklub IZ e.V.":MAILTO:cd@countdown-dresden.de
END:VEVENT
END:VCALENDAR