BEGIN:VCALENDAR
VERSION:2.0
PRODID:-//CountDown - ECPv6.15.20//NONSGML v1.0//EN
CALSCALE:GREGORIAN
METHOD:PUBLISH
X-WR-CALNAME:CountDown
X-ORIGINAL-URL:https://countdowndresden.de
X-WR-CALDESC:Veranstaltungen für CountDown
REFRESH-INTERVAL;VALUE=DURATION:PT1H
X-Robots-Tag:noindex
X-PUBLISHED-TTL:PT1H
BEGIN:VTIMEZONE
TZID:Europe/Berlin
BEGIN:DAYLIGHT
TZOFFSETFROM:+0100
TZOFFSETTO:+0200
TZNAME:CEST
DTSTART:20240331T010000
END:DAYLIGHT
BEGIN:STANDARD
TZOFFSETFROM:+0200
TZOFFSETTO:+0100
TZNAME:CET
DTSTART:20241027T010000
END:STANDARD
BEGIN:DAYLIGHT
TZOFFSETFROM:+0100
TZOFFSETTO:+0200
TZNAME:CEST
DTSTART:20250330T010000
END:DAYLIGHT
BEGIN:STANDARD
TZOFFSETFROM:+0200
TZOFFSETTO:+0100
TZNAME:CET
DTSTART:20251026T010000
END:STANDARD
BEGIN:DAYLIGHT
TZOFFSETFROM:+0100
TZOFFSETTO:+0200
TZNAME:CEST
DTSTART:20260329T010000
END:DAYLIGHT
BEGIN:STANDARD
TZOFFSETFROM:+0200
TZOFFSETTO:+0100
TZNAME:CET
DTSTART:20261025T010000
END:STANDARD
END:VTIMEZONE
BEGIN:VEVENT
DTSTART;TZID=Europe/Berlin:20250329T200000
DTEND;TZID=Europe/Berlin:20250330T030000
DTSTAMP:20260421T213419
CREATED:20250204T110238Z
LAST-MODIFIED:20250228T025158Z
UID:10000032-1743278400-1743303600@countdowndresden.de
SUMMARY:Metalalter
DESCRIPTION:Einmal im Monat öffnen sich die Türen des Count Down für eine gepflegte Samstagnacht voller Rock und/oder Metal – jeden Monat mit anderer Ausrichtung. Dazu gibt es leckeren Met und eine schöne Happy Hour von 20 bis 21 Uhr in welcher es alle Feldschlößchen Biere im Zweierpack für 2\,50 € gibt.
URL:https://countdowndresden.de/event_/metalalter/
LOCATION:CountDown\, Güntzstraße 22\, Dresden\, Sachsen\, 01307\, Germany
CATEGORIES:Rock- & Metal-Abend
ATTACH;FMTTYPE=image/jpeg:https://countdowndresden.de/wp-content/uploads/2025/02/Gemini_Generated_Image_3tue7c3tue7c3tue-e1740711037536.jpg
ORGANIZER;CN="Studentenklub IZ e.V.":MAILTO:cd@countdown-dresden.de
END:VEVENT
END:VCALENDAR