BEGIN:VCALENDAR
VERSION:2.0
PRODID:-//CountDown - ECPv6.15.17.1//NONSGML v1.0//EN
CALSCALE:GREGORIAN
METHOD:PUBLISH
X-ORIGINAL-URL:https://countdowndresden.de
X-WR-CALDESC:Veranstaltungen für CountDown
REFRESH-INTERVAL;VALUE=DURATION:PT1H
X-Robots-Tag:noindex
X-PUBLISHED-TTL:PT1H
BEGIN:VTIMEZONE
TZID:Europe/Berlin
BEGIN:DAYLIGHT
TZOFFSETFROM:+0100
TZOFFSETTO:+0200
TZNAME:CEST
DTSTART:20240331T010000
END:DAYLIGHT
BEGIN:STANDARD
TZOFFSETFROM:+0200
TZOFFSETTO:+0100
TZNAME:CET
DTSTART:20241027T010000
END:STANDARD
BEGIN:DAYLIGHT
TZOFFSETFROM:+0100
TZOFFSETTO:+0200
TZNAME:CEST
DTSTART:20250330T010000
END:DAYLIGHT
BEGIN:STANDARD
TZOFFSETFROM:+0200
TZOFFSETTO:+0100
TZNAME:CET
DTSTART:20251026T010000
END:STANDARD
BEGIN:DAYLIGHT
TZOFFSETFROM:+0100
TZOFFSETTO:+0200
TZNAME:CEST
DTSTART:20260329T010000
END:DAYLIGHT
BEGIN:STANDARD
TZOFFSETFROM:+0200
TZOFFSETTO:+0100
TZNAME:CET
DTSTART:20261025T010000
END:STANDARD
BEGIN:DAYLIGHT
TZOFFSETFROM:+0100
TZOFFSETTO:+0200
TZNAME:CEST
DTSTART:20270328T010000
END:DAYLIGHT
BEGIN:STANDARD
TZOFFSETFROM:+0200
TZOFFSETTO:+0100
TZNAME:CET
DTSTART:20271031T010000
END:STANDARD
END:VTIMEZONE
BEGIN:VEVENT
DTSTART;TZID=Europe/Berlin:20250329T200000
DTEND;TZID=Europe/Berlin:20250330T030000
DTSTAMP:20260419T220214
CREATED:20250204T110238Z
LAST-MODIFIED:20250228T025158Z
UID:10000032-1743278400-1743303600@countdowndresden.de
SUMMARY:Metalalter
DESCRIPTION:Einmal im Monat öffnen sich die Türen des Count Down für eine gepflegte Samstagnacht voller Rock und/oder Metal – jeden Monat mit anderer Ausrichtung. Dazu gibt es leckeren Met und eine schöne Happy Hour von 20 bis 21 Uhr in welcher es alle Feldschlößchen Biere im Zweierpack für 2\,50 € gibt.
URL:https://countdowndresden.de/event_/metalalter/
LOCATION:CountDown\, Güntzstraße 22\, Dresden\, Sachsen\, 01307\, Germany
CATEGORIES:Rock- & Metal-Abend
ATTACH;FMTTYPE=image/jpeg:https://countdowndresden.de/wp-content/uploads/2025/02/Gemini_Generated_Image_3tue7c3tue7c3tue-e1740711037536.jpg
ORGANIZER;CN="Studentenklub IZ e.V.":MAILTO:cd@countdown-dresden.de
END:VEVENT
BEGIN:VEVENT
DTSTART;TZID=Europe/Berlin:20250422T203000
DTEND;TZID=Europe/Berlin:20250423T010000
DTSTAMP:20260419T220214
CREATED:20250317T001421Z
LAST-MODIFIED:20260317T194312Z
UID:10000213-1745353800-1745370000@countdowndresden.de
SUMMARY:Länderparty
DESCRIPTION:Get ready for the legendary Länderparties at CountDown! This Tuesday we transform the club into an international celebration. Students present their home countries and cultures with everything that goes with it: delicious food\, great music\, traditional drinks\, party vibes\, and a short\, engaging presentation. \n  \nTickets are available at the door: 2€ with ESNcard\, 3€ without. See you at CountDown!
URL:https://countdowndresden.de/event_/laenderparty/2025-04-22/
LOCATION:CountDown\, Güntzstraße 22\, Dresden\, Sachsen\, 01307\, Germany
CATEGORIES:Erasmus-Länderabend
ATTACH;FMTTYPE=image/webp:https://countdowndresden.de/wp-content/uploads/2025/03/DE-tu_dresden-logo-colour.webp
ORGANIZER;CN="Erasmus Student Network TU Dresden e.V.":MAILTO:kontakt@esn-dresden.de
END:VEVENT
BEGIN:VEVENT
DTSTART;TZID=Europe/Berlin:20250429T203000
DTEND;TZID=Europe/Berlin:20250430T010000
DTSTAMP:20260419T220214
CREATED:20250317T001421Z
LAST-MODIFIED:20260317T194312Z
UID:10000214-1745958600-1745974800@countdowndresden.de
SUMMARY:Länderparty
DESCRIPTION:Get ready for the legendary Länderparties at CountDown! This Tuesday we transform the club into an international celebration. Students present their home countries and cultures with everything that goes with it: delicious food\, great music\, traditional drinks\, party vibes\, and a short\, engaging presentation. \n  \nTickets are available at the door: 2€ with ESNcard\, 3€ without. See you at CountDown!
URL:https://countdowndresden.de/event_/laenderparty/2025-04-29/
LOCATION:CountDown\, Güntzstraße 22\, Dresden\, Sachsen\, 01307\, Germany
CATEGORIES:Erasmus-Länderabend
ATTACH;FMTTYPE=image/webp:https://countdowndresden.de/wp-content/uploads/2025/03/DE-tu_dresden-logo-colour.webp
ORGANIZER;CN="Erasmus Student Network TU Dresden e.V.":MAILTO:kontakt@esn-dresden.de
END:VEVENT
BEGIN:VEVENT
DTSTART;TZID=Europe/Berlin:20250520T180000
DTEND;TZID=Europe/Berlin:20250521T010000
DTSTAMP:20260419T220214
CREATED:20250204T112006Z
LAST-MODIFIED:20250514T195229Z
UID:10000013-1747764000-1747789200@countdowndresden.de
SUMMARY:Dresdner Nachtwanderung
DESCRIPTION:Vorverkauf gestartet\nJetzt Vorverkaufseintrittsbändchen für 10€ sichern. Komm einfach zu unseren regulären Öffnungszeiten bei uns vorbei. \nKobayashi Maru\nZur 23. Nachtwanderung wird es im CD Groove mit Kobayashi Maru aus Dresden. \nMit Tobi an der Gitarre\, Alessandro an den Keys\, Jakob am Bass und Maxim an den Drum wurde in den letzten Jahren in dunklen Dresdner Kellerräumen das geschaffen\, was sich heute “Lightyear Groove”nennt. Die inspirierende Instrumental-Musik von Kobayashi Maru nimmt euch mit auf eine Reise durch das Funkrock-Universum. \nAuf Gesang wird bewusst verzichtet\, um den Synth-Sounds und den Gitarren-Soli\, die ihr Markenzeichen sind\, mehr Raum zu bieten. Stellt euch also ab ca. 20 Uhr auf einen Abend mit ungewöhnlicher aber interessanter Musik ein. \n  \n  \nAnsonsten erwartet euch:\n  \n12 Clubs\nJedes Jahr im Frühjahr öffnen alle Dresdner Studentenclubs an einem Abend gemeinsam. Einmal Eintritt gezahlt und du kommst überall rein. \nBands & DJs\nIn jedem Club erwarten dich Acts der verschiedensten Genres. Von Pop\, Rock\, Punk\, Ska\, und Reggae bis Elektro\, Drum’n’Bass\, Disko und Schlager ist für jeden was dabei. \nBusshuttle\nZwischen den Clubs verkehren Busshuttles in Dauerschleife\, die du mit deinem Bändchen kostenlos nutzen kannst. \nFreigetränke\nFür das erste Getränk in einem Club bekommst du einen Stempel. Hast du Stempel aus drei Clubs gesammelt\, kannst du im vierten Club dafür ein Freigetränk bekommen.
URL:https://countdowndresden.de/event_/nawa-2025/
LOCATION:CountDown\, Güntzstraße 22\, Dresden\, Sachsen\, 01307\, Germany
CATEGORIES:Nachtwanderung
ATTACH;FMTTYPE=image/jpeg:https://countdowndresden.de/wp-content/uploads/2025/02/event-6085254.jpg
END:VEVENT
BEGIN:VEVENT
DTSTART;TZID=Europe/Berlin:20250527T203000
DTEND;TZID=Europe/Berlin:20250528T010000
DTSTAMP:20260419T220214
CREATED:20250317T001421Z
LAST-MODIFIED:20260317T194312Z
UID:10000209-1748377800-1748394000@countdowndresden.de
SUMMARY:Länderparty
DESCRIPTION:Get ready for the legendary Länderparties at CountDown! This Tuesday we transform the club into an international celebration. Students present their home countries and cultures with everything that goes with it: delicious food\, great music\, traditional drinks\, party vibes\, and a short\, engaging presentation. \n  \nTickets are available at the door: 2€ with ESNcard\, 3€ without. See you at CountDown!
URL:https://countdowndresden.de/event_/laenderparty/2025-05-27/
LOCATION:CountDown\, Güntzstraße 22\, Dresden\, Sachsen\, 01307\, Germany
CATEGORIES:Erasmus-Länderabend
ATTACH;FMTTYPE=image/webp:https://countdowndresden.de/wp-content/uploads/2025/03/DE-tu_dresden-logo-colour.webp
ORGANIZER;CN="Erasmus Student Network TU Dresden e.V.":MAILTO:kontakt@esn-dresden.de
END:VEVENT
BEGIN:VEVENT
DTSTART;TZID=Europe/Berlin:20250708T203000
DTEND;TZID=Europe/Berlin:20250709T010000
DTSTAMP:20260419T220214
CREATED:20250707T072504Z
LAST-MODIFIED:20250707T072804Z
UID:10000210-1752006600-1752022800@countdowndresden.de
SUMMARY:Länderparty - fällt aus
DESCRIPTION:Die heutige Länderparty muss leider ausfallen!
URL:https://countdowndresden.de/event_/laenderparty-2/
LOCATION:CountDown\, Güntzstraße 22\, Dresden\, Sachsen\, 01307\, Germany
CATEGORIES:Erasmus-Länderabend
ATTACH;FMTTYPE=image/webp:https://countdowndresden.de/wp-content/uploads/2025/03/DE-tu_dresden-logo-colour.webp
ORGANIZER;CN="Erasmus Student Network TU Dresden e.V.":MAILTO:kontakt@esn-dresden.de
END:VEVENT
BEGIN:VEVENT
DTSTART;TZID=Europe/Berlin:20250715T203000
DTEND;TZID=Europe/Berlin:20250716T010000
DTSTAMP:20260419T220214
CREATED:20250317T001421Z
LAST-MODIFIED:20260317T194312Z
UID:10000634-1752611400-1752627600@countdowndresden.de
SUMMARY:Länderparty
DESCRIPTION:Get ready for the legendary Länderparties at CountDown! This Tuesday we transform the club into an international celebration. Students present their home countries and cultures with everything that goes with it: delicious food\, great music\, traditional drinks\, party vibes\, and a short\, engaging presentation. \n  \nTickets are available at the door: 2€ with ESNcard\, 3€ without. See you at CountDown!
URL:https://countdowndresden.de/event_/laenderparty/2025-07-15/
LOCATION:CountDown\, Güntzstraße 22\, Dresden\, Sachsen\, 01307\, Germany
CATEGORIES:Erasmus-Länderabend
ATTACH;FMTTYPE=image/webp:https://countdowndresden.de/wp-content/uploads/2025/03/DE-tu_dresden-logo-colour.webp
ORGANIZER;CN="Erasmus Student Network TU Dresden e.V.":MAILTO:kontakt@esn-dresden.de
END:VEVENT
BEGIN:VEVENT
DTSTART;TZID=Europe/Berlin:20250726T210000
DTEND;TZID=Europe/Berlin:20250727T020000
DTSTAMP:20260419T220214
CREATED:20250721T173228Z
LAST-MODIFIED:20250721T173228Z
UID:10000230-1753563600-1753581600@countdowndresden.de
SUMMARY:NU to the (Metal)CORE
DESCRIPTION:Letzter Samstag im CountDown Zeit für alternative Musik. Heute widmen wir uns vor allem dem Metalcore und NU-Metal die in den 90ern aufgetaucht und ihre starke Blütezeit in den frühen 2k erlebten wo bands wie Linken Park\, System of a Down\, Godsmack oder Disturbed ihren Durchbruch hatten. \n 
URL:https://countdowndresden.de/event_/nu-to-the-metalcore/
LOCATION:CountDown\, Güntzstraße 22\, Dresden\, Sachsen\, 01307\, Germany
CATEGORIES:Rock- & Metal-Abend
ORGANIZER;CN="Studentenklub IZ e.V.":MAILTO:cd@countdown-dresden.de
END:VEVENT
BEGIN:VEVENT
DTSTART;TZID=Europe/Berlin:20250830T210000
DTEND;TZID=Europe/Berlin:20250831T020000
DTSTAMP:20260419T220214
CREATED:20250721T174221Z
LAST-MODIFIED:20250721T174221Z
UID:10000231-1756587600-1756605600@countdowndresden.de
SUMMARY:Black Candle
DESCRIPTION:Letzter Samstag im Countdown. Diesmal eher Düster als Rockig bei Black Candle präsentieren wir einen weiten abriss aus Darkwave\, Electro und Gothic Rock.
URL:https://countdowndresden.de/event_/black-candle/
LOCATION:CountDown\, Güntzstraße 22\, Dresden\, Sachsen\, 01307\, Germany
CATEGORIES:Rock- & Metal-Abend
ORGANIZER;CN="Studentenklub IZ e.V.":MAILTO:cd@countdown-dresden.de
END:VEVENT
BEGIN:VEVENT
DTSTART;TZID=Europe/Berlin:20251014T203000
DTEND;TZID=Europe/Berlin:20251015T010000
DTSTAMP:20260419T220214
CREATED:20250317T001421Z
LAST-MODIFIED:20260317T194312Z
UID:10000310-1760473800-1760490000@countdowndresden.de
SUMMARY:Länderparty
DESCRIPTION:Get ready for the legendary Länderparties at CountDown! This Tuesday we transform the club into an international celebration. Students present their home countries and cultures with everything that goes with it: delicious food\, great music\, traditional drinks\, party vibes\, and a short\, engaging presentation. \n  \nTickets are available at the door: 2€ with ESNcard\, 3€ without. See you at CountDown!
URL:https://countdowndresden.de/event_/laenderparty/2025-10-14/
LOCATION:CountDown\, Güntzstraße 22\, Dresden\, Sachsen\, 01307\, Germany
CATEGORIES:Erasmus-Länderabend
ATTACH;FMTTYPE=image/webp:https://countdowndresden.de/wp-content/uploads/2025/03/DE-tu_dresden-logo-colour.webp
ORGANIZER;CN="Erasmus Student Network TU Dresden e.V.":MAILTO:kontakt@esn-dresden.de
END:VEVENT
BEGIN:VEVENT
DTSTART;TZID=Europe/Berlin:20251025T210000
DTEND;TZID=Europe/Berlin:20251026T020000
DTSTAMP:20260419T220214
CREATED:20250929T171320Z
LAST-MODIFIED:20250929T171432Z
UID:10000015-1761426000-1761444000@countdowndresden.de
SUMMARY:Metalalter
DESCRIPTION:Ganz klassisch wie seit über 10 Jahren mischen wir heute Abend Mittelaltermusik mit Pagan-\, Folk- und Vikingmetal als Soundkulisse. Für die die ihn als Stammgäste kennen braucht es wahrscheinlich keine weiteren Erklärungen. Für Leute die neu dazu kommen erwartet ein Abend der genau die richtige Mischung aus Brachial und tanzbarer Musik so das genug pausen entstehen um sich zu unterhalten oder das Glas Met was man vor dem Phasenwechsel bestellt hat endlich zu genießen.
URL:https://countdowndresden.de/event_/metalalter-2/
LOCATION:CountDown\, Güntzstraße 22\, Dresden\, Sachsen\, 01307\, Germany
CATEGORIES:Rock- & Metal-Abend
ORGANIZER;CN="Studentenklub IZ e.V.":MAILTO:cd@countdown-dresden.de
END:VEVENT
BEGIN:VEVENT
DTSTART;TZID=Europe/Berlin:20251111T203000
DTEND;TZID=Europe/Berlin:20251112T010000
DTSTAMP:20260419T220214
CREATED:20250317T001421Z
LAST-MODIFIED:20260317T194312Z
UID:10000311-1762893000-1762909200@countdowndresden.de
SUMMARY:Länderparty
DESCRIPTION:Get ready for the legendary Länderparties at CountDown! This Tuesday we transform the club into an international celebration. Students present their home countries and cultures with everything that goes with it: delicious food\, great music\, traditional drinks\, party vibes\, and a short\, engaging presentation. \n  \nTickets are available at the door: 2€ with ESNcard\, 3€ without. See you at CountDown!
URL:https://countdowndresden.de/event_/laenderparty/2025-11-11/
LOCATION:CountDown\, Güntzstraße 22\, Dresden\, Sachsen\, 01307\, Germany
CATEGORIES:Erasmus-Länderabend
ATTACH;FMTTYPE=image/webp:https://countdowndresden.de/wp-content/uploads/2025/03/DE-tu_dresden-logo-colour.webp
ORGANIZER;CN="Erasmus Student Network TU Dresden e.V.":MAILTO:kontakt@esn-dresden.de
END:VEVENT
BEGIN:VEVENT
DTSTART;TZID=Europe/Berlin:20251129T200000
DTEND;TZID=Europe/Berlin:20251130T020000
DTSTAMP:20260419T220214
CREATED:20251110T220143Z
LAST-MODIFIED:20251110T220143Z
UID:10000024-1764446400-1764468000@countdowndresden.de
SUMMARY:Oldschool Gothic
DESCRIPTION:Letzter Samstag wie immer alternativ im CD: Minimal\, Darkwave\, Horrorpunk und generell alles was das schwarze Herz aus älteren Tagen oder in dessen Stil erfreut steht heute auf dem Programm. \n 
URL:https://countdowndresden.de/event_/oldschool-gothic/
LOCATION:CountDown\, Güntzstraße 22\, Dresden\, Sachsen\, 01307\, Germany
CATEGORIES:Rock- & Metal-Abend
ORGANIZER;CN="Studentenklub IZ e.V.":MAILTO:cd@countdown-dresden.de
END:VEVENT
BEGIN:VEVENT
DTSTART;TZID=Europe/Berlin:20260106T203000
DTEND;TZID=Europe/Berlin:20260107T010000
DTSTAMP:20260419T220214
CREATED:20250317T001421Z
LAST-MODIFIED:20260317T194312Z
UID:10000312-1767731400-1767747600@countdowndresden.de
SUMMARY:Länderparty
DESCRIPTION:Get ready for the legendary Länderparties at CountDown! This Tuesday we transform the club into an international celebration. Students present their home countries and cultures with everything that goes with it: delicious food\, great music\, traditional drinks\, party vibes\, and a short\, engaging presentation. \n  \nTickets are available at the door: 2€ with ESNcard\, 3€ without. See you at CountDown!
URL:https://countdowndresden.de/event_/laenderparty/2026-01-06/
LOCATION:CountDown\, Güntzstraße 22\, Dresden\, Sachsen\, 01307\, Germany
CATEGORIES:Erasmus-Länderabend
ATTACH;FMTTYPE=image/webp:https://countdowndresden.de/wp-content/uploads/2025/03/DE-tu_dresden-logo-colour.webp
ORGANIZER;CN="Erasmus Student Network TU Dresden e.V.":MAILTO:kontakt@esn-dresden.de
END:VEVENT
BEGIN:VEVENT
DTSTART;TZID=Europe/Berlin:20260414T203000
DTEND;TZID=Europe/Berlin:20260415T010000
DTSTAMP:20260419T220214
CREATED:20250317T001421Z
LAST-MODIFIED:20260317T194312Z
UID:10000635-1776198600-1776214800@countdowndresden.de
SUMMARY:Länderparty
DESCRIPTION:Get ready for the legendary Länderparties at CountDown! This Tuesday we transform the club into an international celebration. Students present their home countries and cultures with everything that goes with it: delicious food\, great music\, traditional drinks\, party vibes\, and a short\, engaging presentation. \n  \nTickets are available at the door: 2€ with ESNcard\, 3€ without. See you at CountDown!
URL:https://countdowndresden.de/event_/laenderparty/2026-04-14/
LOCATION:CountDown\, Güntzstraße 22\, Dresden\, Sachsen\, 01307\, Germany
CATEGORIES:Erasmus-Länderabend
ATTACH;FMTTYPE=image/webp:https://countdowndresden.de/wp-content/uploads/2025/03/DE-tu_dresden-logo-colour.webp
ORGANIZER;CN="Erasmus Student Network TU Dresden e.V.":MAILTO:kontakt@esn-dresden.de
END:VEVENT
END:VCALENDAR