BEGIN:VCALENDAR
VERSION:2.0
PRODID:-//CountDown - ECPv6.15.17.1//NONSGML v1.0//EN
CALSCALE:GREGORIAN
METHOD:PUBLISH
X-ORIGINAL-URL:https://countdowndresden.de
X-WR-CALDESC:Veranstaltungen für CountDown
REFRESH-INTERVAL;VALUE=DURATION:PT1H
X-Robots-Tag:noindex
X-PUBLISHED-TTL:PT1H
BEGIN:VTIMEZONE
TZID:Europe/Berlin
BEGIN:DAYLIGHT
TZOFFSETFROM:+0100
TZOFFSETTO:+0200
TZNAME:CEST
DTSTART:20250330T010000
END:DAYLIGHT
BEGIN:STANDARD
TZOFFSETFROM:+0200
TZOFFSETTO:+0100
TZNAME:CET
DTSTART:20251026T010000
END:STANDARD
BEGIN:DAYLIGHT
TZOFFSETFROM:+0100
TZOFFSETTO:+0200
TZNAME:CEST
DTSTART:20260329T010000
END:DAYLIGHT
BEGIN:STANDARD
TZOFFSETFROM:+0200
TZOFFSETTO:+0100
TZNAME:CET
DTSTART:20261025T010000
END:STANDARD
BEGIN:DAYLIGHT
TZOFFSETFROM:+0100
TZOFFSETTO:+0200
TZNAME:CEST
DTSTART:20270328T010000
END:DAYLIGHT
BEGIN:STANDARD
TZOFFSETFROM:+0200
TZOFFSETTO:+0100
TZNAME:CET
DTSTART:20271031T010000
END:STANDARD
END:VTIMEZONE
BEGIN:VEVENT
DTSTART;TZID=Europe/Berlin:20260421T190000
DTEND;TZID=Europe/Berlin:20260421T220000
DTSTAMP:20260420T092909
CREATED:20260113T213428Z
LAST-MODIFIED:20260113T213429Z
UID:10000472-1776798000-1776808800@countdowndresden.de
SUMMARY:Kneipenabend
DESCRIPTION:Du bist neu in der Stadt oder suchst einfach neue Leute? Dann komm zu unserem Kneipenabend im CountDown! Hier kannst du bei lockerer Atmosphäre und einem kühlen Getränk neue Freundschaften schließen\, dich austauschen und einen entspannten Abend verbringen. Wir freuen uns auf dich!
URL:https://countdowndresden.de/event_/kennenlernabend-9-2-2-2/2026-04-21/
LOCATION:CountDown\, Güntzstraße 22\, Dresden\, Sachsen\, 01307\, Germany
CATEGORIES:Barabend,Kneipenabend
ATTACH;FMTTYPE=image/jpeg:https://countdowndresden.de/wp-content/uploads/2025/02/Gemini_Generated_Image_9hqx5q9hqx5q9hqx-e1740710685467.jpg
ORGANIZER;CN="Studentenklub IZ e.V.":MAILTO:cd@countdown-dresden.de
END:VEVENT
BEGIN:VEVENT
DTSTART;TZID=Europe/Berlin:20260505T190000
DTEND;TZID=Europe/Berlin:20260505T220000
DTSTAMP:20260420T092909
CREATED:20260113T213428Z
LAST-MODIFIED:20260113T213429Z
UID:10000473-1778007600-1778018400@countdowndresden.de
SUMMARY:Kneipenabend
DESCRIPTION:Du bist neu in der Stadt oder suchst einfach neue Leute? Dann komm zu unserem Kneipenabend im CountDown! Hier kannst du bei lockerer Atmosphäre und einem kühlen Getränk neue Freundschaften schließen\, dich austauschen und einen entspannten Abend verbringen. Wir freuen uns auf dich!
URL:https://countdowndresden.de/event_/kennenlernabend-9-2-2-2/2026-05-05/
LOCATION:CountDown\, Güntzstraße 22\, Dresden\, Sachsen\, 01307\, Germany
CATEGORIES:Barabend,Kneipenabend
ATTACH;FMTTYPE=image/jpeg:https://countdowndresden.de/wp-content/uploads/2025/02/Gemini_Generated_Image_9hqx5q9hqx5q9hqx-e1740710685467.jpg
ORGANIZER;CN="Studentenklub IZ e.V.":MAILTO:cd@countdown-dresden.de
END:VEVENT
BEGIN:VEVENT
DTSTART;TZID=Europe/Berlin:20260519T190000
DTEND;TZID=Europe/Berlin:20260519T220000
DTSTAMP:20260420T092909
CREATED:20260113T213428Z
LAST-MODIFIED:20260113T213429Z
UID:10000474-1779217200-1779228000@countdowndresden.de
SUMMARY:Kneipenabend
DESCRIPTION:Du bist neu in der Stadt oder suchst einfach neue Leute? Dann komm zu unserem Kneipenabend im CountDown! Hier kannst du bei lockerer Atmosphäre und einem kühlen Getränk neue Freundschaften schließen\, dich austauschen und einen entspannten Abend verbringen. Wir freuen uns auf dich!
URL:https://countdowndresden.de/event_/kennenlernabend-9-2-2-2/2026-05-19/
LOCATION:CountDown\, Güntzstraße 22\, Dresden\, Sachsen\, 01307\, Germany
CATEGORIES:Barabend,Kneipenabend
ATTACH;FMTTYPE=image/jpeg:https://countdowndresden.de/wp-content/uploads/2025/02/Gemini_Generated_Image_9hqx5q9hqx5q9hqx-e1740710685467.jpg
ORGANIZER;CN="Studentenklub IZ e.V.":MAILTO:cd@countdown-dresden.de
END:VEVENT
BEGIN:VEVENT
DTSTART;TZID=Europe/Berlin:20260602T190000
DTEND;TZID=Europe/Berlin:20260602T220000
DTSTAMP:20260420T092909
CREATED:20260113T213428Z
LAST-MODIFIED:20260113T213429Z
UID:10000475-1780426800-1780437600@countdowndresden.de
SUMMARY:Kneipenabend
DESCRIPTION:Du bist neu in der Stadt oder suchst einfach neue Leute? Dann komm zu unserem Kneipenabend im CountDown! Hier kannst du bei lockerer Atmosphäre und einem kühlen Getränk neue Freundschaften schließen\, dich austauschen und einen entspannten Abend verbringen. Wir freuen uns auf dich!
URL:https://countdowndresden.de/event_/kennenlernabend-9-2-2-2/2026-06-02/
LOCATION:CountDown\, Güntzstraße 22\, Dresden\, Sachsen\, 01307\, Germany
CATEGORIES:Barabend,Kneipenabend
ATTACH;FMTTYPE=image/jpeg:https://countdowndresden.de/wp-content/uploads/2025/02/Gemini_Generated_Image_9hqx5q9hqx5q9hqx-e1740710685467.jpg
ORGANIZER;CN="Studentenklub IZ e.V.":MAILTO:cd@countdown-dresden.de
END:VEVENT
BEGIN:VEVENT
DTSTART;TZID=Europe/Berlin:20260616T190000
DTEND;TZID=Europe/Berlin:20260616T220000
DTSTAMP:20260420T092909
CREATED:20260113T213428Z
LAST-MODIFIED:20260113T213429Z
UID:10000476-1781636400-1781647200@countdowndresden.de
SUMMARY:Kneipenabend
DESCRIPTION:Du bist neu in der Stadt oder suchst einfach neue Leute? Dann komm zu unserem Kneipenabend im CountDown! Hier kannst du bei lockerer Atmosphäre und einem kühlen Getränk neue Freundschaften schließen\, dich austauschen und einen entspannten Abend verbringen. Wir freuen uns auf dich!
URL:https://countdowndresden.de/event_/kennenlernabend-9-2-2-2/2026-06-16/
LOCATION:CountDown\, Güntzstraße 22\, Dresden\, Sachsen\, 01307\, Germany
CATEGORIES:Barabend,Kneipenabend
ATTACH;FMTTYPE=image/jpeg:https://countdowndresden.de/wp-content/uploads/2025/02/Gemini_Generated_Image_9hqx5q9hqx5q9hqx-e1740710685467.jpg
ORGANIZER;CN="Studentenklub IZ e.V.":MAILTO:cd@countdown-dresden.de
END:VEVENT
BEGIN:VEVENT
DTSTART;TZID=Europe/Berlin:20260623T190000
DTEND;TZID=Europe/Berlin:20260623T220000
DTSTAMP:20260420T092909
CREATED:20251219T193313Z
LAST-MODIFIED:20260113T213739Z
UID:10000548-1782241200-1782252000@countdowndresden.de
SUMMARY:Kneipenabend
DESCRIPTION:Du bist neu in der Stadt oder suchst einfach neue Leute? Dann komm zu unserem Kennenlernabend im CountDown! Hier kannst du bei lockerer Atmosphäre neue Freundschaften schließen\, dich austauschen und einen entspannten Abend verbringen. Wir freuen uns auf dich!
URL:https://countdowndresden.de/event_/kneipenabend-12/2026-06-23/
LOCATION:CountDown\, Güntzstraße 22\, Dresden\, Sachsen\, 01307\, Germany
CATEGORIES:Kneipenabend
ATTACH;FMTTYPE=image/jpeg:https://countdowndresden.de/wp-content/uploads/2025/02/Gemini_Generated_Image_9hqx5q9hqx5q9hqx-e1740710685467.jpg
ORGANIZER;CN="Studentenklub IZ e.V.":MAILTO:cd@countdown-dresden.de
END:VEVENT
BEGIN:VEVENT
DTSTART;TZID=Europe/Berlin:20260630T190000
DTEND;TZID=Europe/Berlin:20260630T220000
DTSTAMP:20260420T092909
CREATED:20260113T213428Z
LAST-MODIFIED:20260113T213429Z
UID:10000477-1782846000-1782856800@countdowndresden.de
SUMMARY:Kneipenabend
DESCRIPTION:Du bist neu in der Stadt oder suchst einfach neue Leute? Dann komm zu unserem Kneipenabend im CountDown! Hier kannst du bei lockerer Atmosphäre und einem kühlen Getränk neue Freundschaften schließen\, dich austauschen und einen entspannten Abend verbringen. Wir freuen uns auf dich!
URL:https://countdowndresden.de/event_/kennenlernabend-9-2-2-2/2026-06-30/
LOCATION:CountDown\, Güntzstraße 22\, Dresden\, Sachsen\, 01307\, Germany
CATEGORIES:Barabend,Kneipenabend
ATTACH;FMTTYPE=image/jpeg:https://countdowndresden.de/wp-content/uploads/2025/02/Gemini_Generated_Image_9hqx5q9hqx5q9hqx-e1740710685467.jpg
ORGANIZER;CN="Studentenklub IZ e.V.":MAILTO:cd@countdown-dresden.de
END:VEVENT
BEGIN:VEVENT
DTSTART;TZID=Europe/Berlin:20260714T190000
DTEND;TZID=Europe/Berlin:20260714T220000
DTSTAMP:20260420T092909
CREATED:20260113T213428Z
LAST-MODIFIED:20260113T213429Z
UID:10000478-1784055600-1784066400@countdowndresden.de
SUMMARY:Kneipenabend
DESCRIPTION:Du bist neu in der Stadt oder suchst einfach neue Leute? Dann komm zu unserem Kneipenabend im CountDown! Hier kannst du bei lockerer Atmosphäre und einem kühlen Getränk neue Freundschaften schließen\, dich austauschen und einen entspannten Abend verbringen. Wir freuen uns auf dich!
URL:https://countdowndresden.de/event_/kennenlernabend-9-2-2-2/2026-07-14/
LOCATION:CountDown\, Güntzstraße 22\, Dresden\, Sachsen\, 01307\, Germany
CATEGORIES:Barabend,Kneipenabend
ATTACH;FMTTYPE=image/jpeg:https://countdowndresden.de/wp-content/uploads/2025/02/Gemini_Generated_Image_9hqx5q9hqx5q9hqx-e1740710685467.jpg
ORGANIZER;CN="Studentenklub IZ e.V.":MAILTO:cd@countdown-dresden.de
END:VEVENT
BEGIN:VEVENT
DTSTART;TZID=Europe/Berlin:20260721T190000
DTEND;TZID=Europe/Berlin:20260721T220000
DTSTAMP:20260420T092909
CREATED:20251219T193313Z
LAST-MODIFIED:20260113T213739Z
UID:10000549-1784660400-1784671200@countdowndresden.de
SUMMARY:Kneipenabend
DESCRIPTION:Du bist neu in der Stadt oder suchst einfach neue Leute? Dann komm zu unserem Kennenlernabend im CountDown! Hier kannst du bei lockerer Atmosphäre neue Freundschaften schließen\, dich austauschen und einen entspannten Abend verbringen. Wir freuen uns auf dich!
URL:https://countdowndresden.de/event_/kneipenabend-12/2026-07-21/
LOCATION:CountDown\, Güntzstraße 22\, Dresden\, Sachsen\, 01307\, Germany
CATEGORIES:Kneipenabend
ATTACH;FMTTYPE=image/jpeg:https://countdowndresden.de/wp-content/uploads/2025/02/Gemini_Generated_Image_9hqx5q9hqx5q9hqx-e1740710685467.jpg
ORGANIZER;CN="Studentenklub IZ e.V.":MAILTO:cd@countdown-dresden.de
END:VEVENT
BEGIN:VEVENT
DTSTART;TZID=Europe/Berlin:20260728T190000
DTEND;TZID=Europe/Berlin:20260728T220000
DTSTAMP:20260420T092909
CREATED:20260113T213428Z
LAST-MODIFIED:20260113T213429Z
UID:10000479-1785265200-1785276000@countdowndresden.de
SUMMARY:Kneipenabend
DESCRIPTION:Du bist neu in der Stadt oder suchst einfach neue Leute? Dann komm zu unserem Kneipenabend im CountDown! Hier kannst du bei lockerer Atmosphäre und einem kühlen Getränk neue Freundschaften schließen\, dich austauschen und einen entspannten Abend verbringen. Wir freuen uns auf dich!
URL:https://countdowndresden.de/event_/kennenlernabend-9-2-2-2/2026-07-28/
LOCATION:CountDown\, Güntzstraße 22\, Dresden\, Sachsen\, 01307\, Germany
CATEGORIES:Barabend,Kneipenabend
ATTACH;FMTTYPE=image/jpeg:https://countdowndresden.de/wp-content/uploads/2025/02/Gemini_Generated_Image_9hqx5q9hqx5q9hqx-e1740710685467.jpg
ORGANIZER;CN="Studentenklub IZ e.V.":MAILTO:cd@countdown-dresden.de
END:VEVENT
BEGIN:VEVENT
DTSTART;TZID=Europe/Berlin:20260811T190000
DTEND;TZID=Europe/Berlin:20260811T220000
DTSTAMP:20260420T092909
CREATED:20260113T213428Z
LAST-MODIFIED:20260113T213429Z
UID:10000480-1786474800-1786485600@countdowndresden.de
SUMMARY:Kneipenabend
DESCRIPTION:Du bist neu in der Stadt oder suchst einfach neue Leute? Dann komm zu unserem Kneipenabend im CountDown! Hier kannst du bei lockerer Atmosphäre und einem kühlen Getränk neue Freundschaften schließen\, dich austauschen und einen entspannten Abend verbringen. Wir freuen uns auf dich!
URL:https://countdowndresden.de/event_/kennenlernabend-9-2-2-2/2026-08-11/
LOCATION:CountDown\, Güntzstraße 22\, Dresden\, Sachsen\, 01307\, Germany
CATEGORIES:Barabend,Kneipenabend
ATTACH;FMTTYPE=image/jpeg:https://countdowndresden.de/wp-content/uploads/2025/02/Gemini_Generated_Image_9hqx5q9hqx5q9hqx-e1740710685467.jpg
ORGANIZER;CN="Studentenklub IZ e.V.":MAILTO:cd@countdown-dresden.de
END:VEVENT
BEGIN:VEVENT
DTSTART;TZID=Europe/Berlin:20260818T190000
DTEND;TZID=Europe/Berlin:20260818T220000
DTSTAMP:20260420T092909
CREATED:20251219T193313Z
LAST-MODIFIED:20260113T213739Z
UID:10000550-1787079600-1787090400@countdowndresden.de
SUMMARY:Kneipenabend
DESCRIPTION:Du bist neu in der Stadt oder suchst einfach neue Leute? Dann komm zu unserem Kennenlernabend im CountDown! Hier kannst du bei lockerer Atmosphäre neue Freundschaften schließen\, dich austauschen und einen entspannten Abend verbringen. Wir freuen uns auf dich!
URL:https://countdowndresden.de/event_/kneipenabend-12/2026-08-18/
LOCATION:CountDown\, Güntzstraße 22\, Dresden\, Sachsen\, 01307\, Germany
CATEGORIES:Kneipenabend
ATTACH;FMTTYPE=image/jpeg:https://countdowndresden.de/wp-content/uploads/2025/02/Gemini_Generated_Image_9hqx5q9hqx5q9hqx-e1740710685467.jpg
ORGANIZER;CN="Studentenklub IZ e.V.":MAILTO:cd@countdown-dresden.de
END:VEVENT
BEGIN:VEVENT
DTSTART;TZID=Europe/Berlin:20260825T190000
DTEND;TZID=Europe/Berlin:20260825T220000
DTSTAMP:20260420T092909
CREATED:20260113T213428Z
LAST-MODIFIED:20260113T213429Z
UID:10000481-1787684400-1787695200@countdowndresden.de
SUMMARY:Kneipenabend
DESCRIPTION:Du bist neu in der Stadt oder suchst einfach neue Leute? Dann komm zu unserem Kneipenabend im CountDown! Hier kannst du bei lockerer Atmosphäre und einem kühlen Getränk neue Freundschaften schließen\, dich austauschen und einen entspannten Abend verbringen. Wir freuen uns auf dich!
URL:https://countdowndresden.de/event_/kennenlernabend-9-2-2-2/2026-08-25/
LOCATION:CountDown\, Güntzstraße 22\, Dresden\, Sachsen\, 01307\, Germany
CATEGORIES:Barabend,Kneipenabend
ATTACH;FMTTYPE=image/jpeg:https://countdowndresden.de/wp-content/uploads/2025/02/Gemini_Generated_Image_9hqx5q9hqx5q9hqx-e1740710685467.jpg
ORGANIZER;CN="Studentenklub IZ e.V.":MAILTO:cd@countdown-dresden.de
END:VEVENT
BEGIN:VEVENT
DTSTART;TZID=Europe/Berlin:20260908T190000
DTEND;TZID=Europe/Berlin:20260908T220000
DTSTAMP:20260420T092909
CREATED:20260113T213428Z
LAST-MODIFIED:20260113T213429Z
UID:10000482-1788894000-1788904800@countdowndresden.de
SUMMARY:Kneipenabend
DESCRIPTION:Du bist neu in der Stadt oder suchst einfach neue Leute? Dann komm zu unserem Kneipenabend im CountDown! Hier kannst du bei lockerer Atmosphäre und einem kühlen Getränk neue Freundschaften schließen\, dich austauschen und einen entspannten Abend verbringen. Wir freuen uns auf dich!
URL:https://countdowndresden.de/event_/kennenlernabend-9-2-2-2/2026-09-08/
LOCATION:CountDown\, Güntzstraße 22\, Dresden\, Sachsen\, 01307\, Germany
CATEGORIES:Barabend,Kneipenabend
ATTACH;FMTTYPE=image/jpeg:https://countdowndresden.de/wp-content/uploads/2025/02/Gemini_Generated_Image_9hqx5q9hqx5q9hqx-e1740710685467.jpg
ORGANIZER;CN="Studentenklub IZ e.V.":MAILTO:cd@countdown-dresden.de
END:VEVENT
BEGIN:VEVENT
DTSTART;TZID=Europe/Berlin:20260915T190000
DTEND;TZID=Europe/Berlin:20260915T220000
DTSTAMP:20260420T092909
CREATED:20251219T193313Z
LAST-MODIFIED:20260113T213739Z
UID:10000551-1789498800-1789509600@countdowndresden.de
SUMMARY:Kneipenabend
DESCRIPTION:Du bist neu in der Stadt oder suchst einfach neue Leute? Dann komm zu unserem Kennenlernabend im CountDown! Hier kannst du bei lockerer Atmosphäre neue Freundschaften schließen\, dich austauschen und einen entspannten Abend verbringen. Wir freuen uns auf dich!
URL:https://countdowndresden.de/event_/kneipenabend-12/2026-09-15/
LOCATION:CountDown\, Güntzstraße 22\, Dresden\, Sachsen\, 01307\, Germany
CATEGORIES:Kneipenabend
ATTACH;FMTTYPE=image/jpeg:https://countdowndresden.de/wp-content/uploads/2025/02/Gemini_Generated_Image_9hqx5q9hqx5q9hqx-e1740710685467.jpg
ORGANIZER;CN="Studentenklub IZ e.V.":MAILTO:cd@countdown-dresden.de
END:VEVENT
BEGIN:VEVENT
DTSTART;TZID=Europe/Berlin:20260922T190000
DTEND;TZID=Europe/Berlin:20260922T220000
DTSTAMP:20260420T092909
CREATED:20260113T213428Z
LAST-MODIFIED:20260113T213429Z
UID:10000483-1790103600-1790114400@countdowndresden.de
SUMMARY:Kneipenabend
DESCRIPTION:Du bist neu in der Stadt oder suchst einfach neue Leute? Dann komm zu unserem Kneipenabend im CountDown! Hier kannst du bei lockerer Atmosphäre und einem kühlen Getränk neue Freundschaften schließen\, dich austauschen und einen entspannten Abend verbringen. Wir freuen uns auf dich!
URL:https://countdowndresden.de/event_/kennenlernabend-9-2-2-2/2026-09-22/
LOCATION:CountDown\, Güntzstraße 22\, Dresden\, Sachsen\, 01307\, Germany
CATEGORIES:Barabend,Kneipenabend
ATTACH;FMTTYPE=image/jpeg:https://countdowndresden.de/wp-content/uploads/2025/02/Gemini_Generated_Image_9hqx5q9hqx5q9hqx-e1740710685467.jpg
ORGANIZER;CN="Studentenklub IZ e.V.":MAILTO:cd@countdown-dresden.de
END:VEVENT
BEGIN:VEVENT
DTSTART;TZID=Europe/Berlin:20261006T190000
DTEND;TZID=Europe/Berlin:20261006T220000
DTSTAMP:20260420T092909
CREATED:20260113T213428Z
LAST-MODIFIED:20260113T213429Z
UID:10000484-1791313200-1791324000@countdowndresden.de
SUMMARY:Kneipenabend
DESCRIPTION:Du bist neu in der Stadt oder suchst einfach neue Leute? Dann komm zu unserem Kneipenabend im CountDown! Hier kannst du bei lockerer Atmosphäre und einem kühlen Getränk neue Freundschaften schließen\, dich austauschen und einen entspannten Abend verbringen. Wir freuen uns auf dich!
URL:https://countdowndresden.de/event_/kennenlernabend-9-2-2-2/2026-10-06/
LOCATION:CountDown\, Güntzstraße 22\, Dresden\, Sachsen\, 01307\, Germany
CATEGORIES:Barabend,Kneipenabend
ATTACH;FMTTYPE=image/jpeg:https://countdowndresden.de/wp-content/uploads/2025/02/Gemini_Generated_Image_9hqx5q9hqx5q9hqx-e1740710685467.jpg
ORGANIZER;CN="Studentenklub IZ e.V.":MAILTO:cd@countdown-dresden.de
END:VEVENT
BEGIN:VEVENT
DTSTART;TZID=Europe/Berlin:20261013T190000
DTEND;TZID=Europe/Berlin:20261013T220000
DTSTAMP:20260420T092909
CREATED:20251219T193313Z
LAST-MODIFIED:20260113T213739Z
UID:10000552-1791918000-1791928800@countdowndresden.de
SUMMARY:Kneipenabend
DESCRIPTION:Du bist neu in der Stadt oder suchst einfach neue Leute? Dann komm zu unserem Kennenlernabend im CountDown! Hier kannst du bei lockerer Atmosphäre neue Freundschaften schließen\, dich austauschen und einen entspannten Abend verbringen. Wir freuen uns auf dich!
URL:https://countdowndresden.de/event_/kneipenabend-12/2026-10-13/
LOCATION:CountDown\, Güntzstraße 22\, Dresden\, Sachsen\, 01307\, Germany
CATEGORIES:Kneipenabend
ATTACH;FMTTYPE=image/jpeg:https://countdowndresden.de/wp-content/uploads/2025/02/Gemini_Generated_Image_9hqx5q9hqx5q9hqx-e1740710685467.jpg
ORGANIZER;CN="Studentenklub IZ e.V.":MAILTO:cd@countdown-dresden.de
END:VEVENT
BEGIN:VEVENT
DTSTART;TZID=Europe/Berlin:20261020T190000
DTEND;TZID=Europe/Berlin:20261020T220000
DTSTAMP:20260420T092909
CREATED:20260113T213428Z
LAST-MODIFIED:20260113T213429Z
UID:10000485-1792522800-1792533600@countdowndresden.de
SUMMARY:Kneipenabend
DESCRIPTION:Du bist neu in der Stadt oder suchst einfach neue Leute? Dann komm zu unserem Kneipenabend im CountDown! Hier kannst du bei lockerer Atmosphäre und einem kühlen Getränk neue Freundschaften schließen\, dich austauschen und einen entspannten Abend verbringen. Wir freuen uns auf dich!
URL:https://countdowndresden.de/event_/kennenlernabend-9-2-2-2/2026-10-20/
LOCATION:CountDown\, Güntzstraße 22\, Dresden\, Sachsen\, 01307\, Germany
CATEGORIES:Barabend,Kneipenabend
ATTACH;FMTTYPE=image/jpeg:https://countdowndresden.de/wp-content/uploads/2025/02/Gemini_Generated_Image_9hqx5q9hqx5q9hqx-e1740710685467.jpg
ORGANIZER;CN="Studentenklub IZ e.V.":MAILTO:cd@countdown-dresden.de
END:VEVENT
BEGIN:VEVENT
DTSTART;TZID=Europe/Berlin:20261103T190000
DTEND;TZID=Europe/Berlin:20261103T220000
DTSTAMP:20260420T092909
CREATED:20260113T213428Z
LAST-MODIFIED:20260113T213429Z
UID:10000486-1793732400-1793743200@countdowndresden.de
SUMMARY:Kneipenabend
DESCRIPTION:Du bist neu in der Stadt oder suchst einfach neue Leute? Dann komm zu unserem Kneipenabend im CountDown! Hier kannst du bei lockerer Atmosphäre und einem kühlen Getränk neue Freundschaften schließen\, dich austauschen und einen entspannten Abend verbringen. Wir freuen uns auf dich!
URL:https://countdowndresden.de/event_/kennenlernabend-9-2-2-2/2026-11-03/
LOCATION:CountDown\, Güntzstraße 22\, Dresden\, Sachsen\, 01307\, Germany
CATEGORIES:Barabend,Kneipenabend
ATTACH;FMTTYPE=image/jpeg:https://countdowndresden.de/wp-content/uploads/2025/02/Gemini_Generated_Image_9hqx5q9hqx5q9hqx-e1740710685467.jpg
ORGANIZER;CN="Studentenklub IZ e.V.":MAILTO:cd@countdown-dresden.de
END:VEVENT
BEGIN:VEVENT
DTSTART;TZID=Europe/Berlin:20261110T190000
DTEND;TZID=Europe/Berlin:20261110T220000
DTSTAMP:20260420T092909
CREATED:20251219T193313Z
LAST-MODIFIED:20260113T213739Z
UID:10000553-1794337200-1794348000@countdowndresden.de
SUMMARY:Kneipenabend
DESCRIPTION:Du bist neu in der Stadt oder suchst einfach neue Leute? Dann komm zu unserem Kennenlernabend im CountDown! Hier kannst du bei lockerer Atmosphäre neue Freundschaften schließen\, dich austauschen und einen entspannten Abend verbringen. Wir freuen uns auf dich!
URL:https://countdowndresden.de/event_/kneipenabend-12/2026-11-10/
LOCATION:CountDown\, Güntzstraße 22\, Dresden\, Sachsen\, 01307\, Germany
CATEGORIES:Kneipenabend
ATTACH;FMTTYPE=image/jpeg:https://countdowndresden.de/wp-content/uploads/2025/02/Gemini_Generated_Image_9hqx5q9hqx5q9hqx-e1740710685467.jpg
ORGANIZER;CN="Studentenklub IZ e.V.":MAILTO:cd@countdown-dresden.de
END:VEVENT
BEGIN:VEVENT
DTSTART;TZID=Europe/Berlin:20261117T190000
DTEND;TZID=Europe/Berlin:20261117T220000
DTSTAMP:20260420T092909
CREATED:20260113T213428Z
LAST-MODIFIED:20260113T213429Z
UID:10000487-1794942000-1794952800@countdowndresden.de
SUMMARY:Kneipenabend
DESCRIPTION:Du bist neu in der Stadt oder suchst einfach neue Leute? Dann komm zu unserem Kneipenabend im CountDown! Hier kannst du bei lockerer Atmosphäre und einem kühlen Getränk neue Freundschaften schließen\, dich austauschen und einen entspannten Abend verbringen. Wir freuen uns auf dich!
URL:https://countdowndresden.de/event_/kennenlernabend-9-2-2-2/2026-11-17/
LOCATION:CountDown\, Güntzstraße 22\, Dresden\, Sachsen\, 01307\, Germany
CATEGORIES:Barabend,Kneipenabend
ATTACH;FMTTYPE=image/jpeg:https://countdowndresden.de/wp-content/uploads/2025/02/Gemini_Generated_Image_9hqx5q9hqx5q9hqx-e1740710685467.jpg
ORGANIZER;CN="Studentenklub IZ e.V.":MAILTO:cd@countdown-dresden.de
END:VEVENT
BEGIN:VEVENT
DTSTART;TZID=Europe/Berlin:20261201T190000
DTEND;TZID=Europe/Berlin:20261201T220000
DTSTAMP:20260420T092909
CREATED:20260113T213428Z
LAST-MODIFIED:20260113T213429Z
UID:10000488-1796151600-1796162400@countdowndresden.de
SUMMARY:Kneipenabend
DESCRIPTION:Du bist neu in der Stadt oder suchst einfach neue Leute? Dann komm zu unserem Kneipenabend im CountDown! Hier kannst du bei lockerer Atmosphäre und einem kühlen Getränk neue Freundschaften schließen\, dich austauschen und einen entspannten Abend verbringen. Wir freuen uns auf dich!
URL:https://countdowndresden.de/event_/kennenlernabend-9-2-2-2/2026-12-01/
LOCATION:CountDown\, Güntzstraße 22\, Dresden\, Sachsen\, 01307\, Germany
CATEGORIES:Barabend,Kneipenabend
ATTACH;FMTTYPE=image/jpeg:https://countdowndresden.de/wp-content/uploads/2025/02/Gemini_Generated_Image_9hqx5q9hqx5q9hqx-e1740710685467.jpg
ORGANIZER;CN="Studentenklub IZ e.V.":MAILTO:cd@countdown-dresden.de
END:VEVENT
BEGIN:VEVENT
DTSTART;TZID=Europe/Berlin:20261208T190000
DTEND;TZID=Europe/Berlin:20261208T220000
DTSTAMP:20260420T092909
CREATED:20251219T193313Z
LAST-MODIFIED:20260113T213739Z
UID:10000554-1796756400-1796767200@countdowndresden.de
SUMMARY:Kneipenabend
DESCRIPTION:Du bist neu in der Stadt oder suchst einfach neue Leute? Dann komm zu unserem Kennenlernabend im CountDown! Hier kannst du bei lockerer Atmosphäre neue Freundschaften schließen\, dich austauschen und einen entspannten Abend verbringen. Wir freuen uns auf dich!
URL:https://countdowndresden.de/event_/kneipenabend-12/2026-12-08/
LOCATION:CountDown\, Güntzstraße 22\, Dresden\, Sachsen\, 01307\, Germany
CATEGORIES:Kneipenabend
ATTACH;FMTTYPE=image/jpeg:https://countdowndresden.de/wp-content/uploads/2025/02/Gemini_Generated_Image_9hqx5q9hqx5q9hqx-e1740710685467.jpg
ORGANIZER;CN="Studentenklub IZ e.V.":MAILTO:cd@countdown-dresden.de
END:VEVENT
BEGIN:VEVENT
DTSTART;TZID=Europe/Berlin:20261215T190000
DTEND;TZID=Europe/Berlin:20261215T220000
DTSTAMP:20260420T092909
CREATED:20260113T213428Z
LAST-MODIFIED:20260113T213429Z
UID:10000489-1797361200-1797372000@countdowndresden.de
SUMMARY:Kneipenabend
DESCRIPTION:Du bist neu in der Stadt oder suchst einfach neue Leute? Dann komm zu unserem Kneipenabend im CountDown! Hier kannst du bei lockerer Atmosphäre und einem kühlen Getränk neue Freundschaften schließen\, dich austauschen und einen entspannten Abend verbringen. Wir freuen uns auf dich!
URL:https://countdowndresden.de/event_/kennenlernabend-9-2-2-2/2026-12-15/
LOCATION:CountDown\, Güntzstraße 22\, Dresden\, Sachsen\, 01307\, Germany
CATEGORIES:Barabend,Kneipenabend
ATTACH;FMTTYPE=image/jpeg:https://countdowndresden.de/wp-content/uploads/2025/02/Gemini_Generated_Image_9hqx5q9hqx5q9hqx-e1740710685467.jpg
ORGANIZER;CN="Studentenklub IZ e.V.":MAILTO:cd@countdown-dresden.de
END:VEVENT
END:VCALENDAR